BEGIN:VCALENDAR
VERSION:2.0
PRODID:-//worldimagingnewslatino - ECPv6.15.13//NONSGML v1.0//EN
CALSCALE:GREGORIAN
METHOD:PUBLISH
X-WR-CALNAME:worldimagingnewslatino
X-ORIGINAL-URL:https://worldimagingnewslatino.com/it
X-WR-CALDESC:Eventi per worldimagingnewslatino
REFRESH-INTERVAL;VALUE=DURATION:PT1H
X-Robots-Tag:noindex
X-PUBLISHED-TTL:PT1H
BEGIN:VTIMEZONE
TZID:UTC
BEGIN:STANDARD
TZOFFSETFROM:+0000
TZOFFSETTO:+0000
TZNAME:UTC
DTSTART:20250101T000000
END:STANDARD
END:VTIMEZONE
BEGIN:VTIMEZONE
TZID:America/Los_Angeles
BEGIN:DAYLIGHT
TZOFFSETFROM:-0800
TZOFFSETTO:-0700
TZNAME:PDT
DTSTART:20250309T100000
END:DAYLIGHT
BEGIN:STANDARD
TZOFFSETFROM:-0700
TZOFFSETTO:-0800
TZNAME:PST
DTSTART:20251102T090000
END:STANDARD
BEGIN:DAYLIGHT
TZOFFSETFROM:-0800
TZOFFSETTO:-0700
TZNAME:PDT
DTSTART:20260308T100000
END:DAYLIGHT
BEGIN:STANDARD
TZOFFSETFROM:-0700
TZOFFSETTO:-0800
TZNAME:PST
DTSTART:20261101T090000
END:STANDARD
BEGIN:DAYLIGHT
TZOFFSETFROM:-0800
TZOFFSETTO:-0700
TZNAME:PDT
DTSTART:20270314T100000
END:DAYLIGHT
BEGIN:STANDARD
TZOFFSETFROM:-0700
TZOFFSETTO:-0800
TZNAME:PST
DTSTART:20271107T090000
END:STANDARD
BEGIN:DAYLIGHT
TZOFFSETFROM:-0800
TZOFFSETTO:-0700
TZNAME:PDT
DTSTART:20280312T100000
END:DAYLIGHT
BEGIN:STANDARD
TZOFFSETFROM:-0700
TZOFFSETTO:-0800
TZNAME:PST
DTSTART:20281105T090000
END:STANDARD
BEGIN:DAYLIGHT
TZOFFSETFROM:-0800
TZOFFSETTO:-0700
TZNAME:PDT
DTSTART:20290311T100000
END:DAYLIGHT
BEGIN:STANDARD
TZOFFSETFROM:-0700
TZOFFSETTO:-0800
TZNAME:PST
DTSTART:20291104T090000
END:STANDARD
END:VTIMEZONE
BEGIN:VTIMEZONE
TZID:Pacific/Auckland
BEGIN:STANDARD
TZOFFSETFROM:+1300
TZOFFSETTO:+1200
TZNAME:NZST
DTSTART:20260404T140000
END:STANDARD
BEGIN:DAYLIGHT
TZOFFSETFROM:+1200
TZOFFSETTO:+1300
TZNAME:NZDT
DTSTART:20260926T140000
END:DAYLIGHT
BEGIN:STANDARD
TZOFFSETFROM:+1300
TZOFFSETTO:+1200
TZNAME:NZST
DTSTART:20270403T140000
END:STANDARD
BEGIN:DAYLIGHT
TZOFFSETFROM:+1200
TZOFFSETTO:+1300
TZNAME:NZDT
DTSTART:20270925T140000
END:DAYLIGHT
BEGIN:STANDARD
TZOFFSETFROM:+1300
TZOFFSETTO:+1200
TZNAME:NZST
DTSTART:20280401T140000
END:STANDARD
BEGIN:DAYLIGHT
TZOFFSETFROM:+1200
TZOFFSETTO:+1300
TZNAME:NZDT
DTSTART:20280923T140000
END:DAYLIGHT
END:VTIMEZONE
BEGIN:VEVENT
DTSTART;VALUE=DATE:20261021
DTEND;VALUE=DATE:20261025
DTSTAMP:20260420T224032
CREATED:20260310T023250Z
LAST-MODIFIED:20260310T023837Z
UID:264093-1792540800-1792886399@worldimagingnewslatino.com
SUMMARY:Impressions Expo 2026 - Dallas\, Texas
DESCRIPTION:Impressions Expo Dallas es un evento imprescindible para cualquier persona que busque hacer negocios en Texas y los estados circundantes\, ya que proporciona acceso directo a uno de los mercados más activos y de más rápido crecimiento en la industria de prendas decoradas y productos promocionales. Este evento ofrece una oportunidad ideal para establecer contactos con tomadores de decisiones clave\, ampliar su base de clientes y mantenerse a la vanguardia de las tendencias de la industria.
URL:https://worldimagingnewslatino.com/it/evento/impressions-expo-2026-dallas-texas/
LOCATION:Dallas Market Center\, Dallas\, TX\, United States
ATTACH;FMTTYPE=image/webp:https://worldimagingnewslatino.com/wp-content/uploads/2026/03/OIP-1.webp
END:VEVENT
BEGIN:VEVENT
DTSTART;VALUE=DATE:20261113
DTEND;VALUE=DATE:20261115
DTSTAMP:20260420T224032
CREATED:20260310T172750Z
LAST-MODIFIED:20260310T173041Z
UID:264098-1794528000-1794700799@worldimagingnewslatino.com
SUMMARY:GRAPHICS PRO EXPO - Charlotte\, North Carolina
DESCRIPTION:GRAPHICS PRO EXPO\, este evento reúne a asistentes de los sectores de premiación\, decoración de prendas y gráficos\, mientras que su realización a finales de año coincide con compradores que buscan invertir en equipos antes de que termine el año.
URL:https://worldimagingnewslatino.com/it/evento/graphics-pro-expo-charlotte-north-carolina-2/
LOCATION:Charlotte Convention Center\, Charlotte\, NC\, United States
ATTACH;FMTTYPE=image/png:https://worldimagingnewslatino.com/wp-content/uploads/2026/03/Captura-de-pantalla-2025-08-25-212624.png
END:VEVENT
BEGIN:VEVENT
DTSTART;VALUE=DATE:20270121
DTEND;VALUE=DATE:20270125
DTSTAMP:20260420T224032
CREATED:20260310T174713Z
LAST-MODIFIED:20260310T174713Z
UID:264102-1800489600-1800835199@worldimagingnewslatino.com
SUMMARY:Impressions Expo 2027 - Long Beach\, California
DESCRIPTION:Impressions Expo Long Beach es la principal expo y conferencia dedicada a la industria de prendas decoradas. Las categorías destacadas incluyen: prendas en blanco\, bordado\, impresión serigráfica y digital\, sublimación\, y mucho más.
URL:https://worldimagingnewslatino.com/it/evento/impressions-expo-2027-long-beach-california/
LOCATION:Long Beach Convention and Entertainment Center\, Long Beach\, CA\, United States
ATTACH;FMTTYPE=image/png:https://worldimagingnewslatino.com/wp-content/uploads/2026/03/IELB26_450x150.png
END:VEVENT
BEGIN:VEVENT
DTSTART;VALUE=DATE:20270304
DTEND;VALUE=DATE:20270305
DTSTAMP:20260420T224032
CREATED:20260310T175953Z
LAST-MODIFIED:20260310T175953Z
UID:264105-1804118400-1804204799@worldimagingnewslatino.com
SUMMARY:SHANGHAI APPPEXPO 2027 - Shanghai\, China
DESCRIPTION:APPPEXPO 2027 (Shanghai International Advertising & Printing Expo) es un importante evento anual de la industria que se celebra en Shanghái\, China\, generalmente a principios de marzo. Presenta avances en impresión\, señalización y empaques\, y atrae a miles de expositores y visitantes internacionales. Las fechas del evento están por anunciarse.
URL:https://worldimagingnewslatino.com/it/evento/shanghai-apppexpo-2027-shanghai-china/
LOCATION:National Exhibition and Convention Center (Shanghai)\, Shanghai\, China
ATTACH;FMTTYPE=image/png:https://worldimagingnewslatino.com/wp-content/uploads/2026/03/Apppexpo-e1772719053511.png
END:VEVENT
BEGIN:VEVENT
DTSTART;VALUE=DATE:20280509
DTEND;VALUE=DATE:20280518
DTSTAMP:20260420T224032
CREATED:20250826T031111Z
LAST-MODIFIED:20250826T031153Z
UID:263310-1841443200-1842220799@worldimagingnewslatino.com
SUMMARY:Drupa 2028 - Dusseldorf\, Germany
DESCRIPTION:Según Messe Düsseldorf\, “drupa es la feria líder para la industria de la impresión y las artes gráficas. Se lleva a cabo cada cuatro años en Düsseldorf y es un evento imprescindible para todos los involucrados en la industria de la impresión\, el packaging y las artes gráficas.”
URL:https://worldimagingnewslatino.com/it/evento/drupa-2028-dusseldorf-germany/
LOCATION:Messe Dusseldorf\, Duesseldorf\, Germany
ATTACH;FMTTYPE=image/png:https://worldimagingnewslatino.com/wp-content/uploads/2025/08/drupa_24-029_Interims-Kampagne_2028_Adaptionen_Website_E_608x218px.png
END:VEVENT
END:VCALENDAR