BEGIN:VCALENDAR
VERSION:2.0
PRODID:-//worldimagingnewslatino - ECPv6.15.13//NONSGML v1.0//EN
CALSCALE:GREGORIAN
METHOD:PUBLISH
X-WR-CALNAME:worldimagingnewslatino
X-ORIGINAL-URL:https://worldimagingnewslatino.com/es
X-WR-CALDESC:Eventos para worldimagingnewslatino
REFRESH-INTERVAL;VALUE=DURATION:PT1H
X-Robots-Tag:noindex
X-PUBLISHED-TTL:PT1H
BEGIN:VTIMEZONE
TZID:America/Los_Angeles
BEGIN:DAYLIGHT
TZOFFSETFROM:-0800
TZOFFSETTO:-0700
TZNAME:PDT
DTSTART:20250309T100000
END:DAYLIGHT
BEGIN:STANDARD
TZOFFSETFROM:-0700
TZOFFSETTO:-0800
TZNAME:PST
DTSTART:20251102T090000
END:STANDARD
BEGIN:DAYLIGHT
TZOFFSETFROM:-0800
TZOFFSETTO:-0700
TZNAME:PDT
DTSTART:20260308T100000
END:DAYLIGHT
BEGIN:STANDARD
TZOFFSETFROM:-0700
TZOFFSETTO:-0800
TZNAME:PST
DTSTART:20261101T090000
END:STANDARD
BEGIN:DAYLIGHT
TZOFFSETFROM:-0800
TZOFFSETTO:-0700
TZNAME:PDT
DTSTART:20270314T100000
END:DAYLIGHT
BEGIN:STANDARD
TZOFFSETFROM:-0700
TZOFFSETTO:-0800
TZNAME:PST
DTSTART:20271107T090000
END:STANDARD
END:VTIMEZONE
BEGIN:VEVENT
DTSTART;VALUE=DATE:20261113
DTEND;VALUE=DATE:20261115
DTSTAMP:20260420T092617
CREATED:20260310T172750Z
LAST-MODIFIED:20260310T173041Z
UID:264098-1794528000-1794700799@worldimagingnewslatino.com
SUMMARY:GRAPHICS PRO EXPO - Charlotte\, North Carolina
DESCRIPTION:GRAPHICS PRO EXPO\, este evento reúne a asistentes de los sectores de premiación\, decoración de prendas y gráficos\, mientras que su realización a finales de año coincide con compradores que buscan invertir en equipos antes de que termine el año.
URL:https://worldimagingnewslatino.com/es/evento/graphics-pro-expo-charlotte-north-carolina-2/
LOCATION:Charlotte Convention Center\, Charlotte\, NC\, United States
ATTACH;FMTTYPE=image/png:https://worldimagingnewslatino.com/wp-content/uploads/2026/03/Captura-de-pantalla-2025-08-25-212624.png
END:VEVENT
END:VCALENDAR