BEGIN:VCALENDAR
VERSION:2.0
PRODID:-//worldimagingnewslatino - ECPv6.15.13//NONSGML v1.0//EN
CALSCALE:GREGORIAN
METHOD:PUBLISH
X-WR-CALNAME:worldimagingnewslatino
X-ORIGINAL-URL:https://worldimagingnewslatino.com/es
X-WR-CALDESC:Eventos para worldimagingnewslatino
REFRESH-INTERVAL;VALUE=DURATION:PT1H
X-Robots-Tag:noindex
X-PUBLISHED-TTL:PT1H
BEGIN:VTIMEZONE
TZID:America/Los_Angeles
BEGIN:DAYLIGHT
TZOFFSETFROM:-0800
TZOFFSETTO:-0700
TZNAME:PDT
DTSTART:20250309T100000
END:DAYLIGHT
BEGIN:STANDARD
TZOFFSETFROM:-0700
TZOFFSETTO:-0800
TZNAME:PST
DTSTART:20251102T090000
END:STANDARD
BEGIN:DAYLIGHT
TZOFFSETFROM:-0800
TZOFFSETTO:-0700
TZNAME:PDT
DTSTART:20260308T100000
END:DAYLIGHT
BEGIN:STANDARD
TZOFFSETFROM:-0700
TZOFFSETTO:-0800
TZNAME:PST
DTSTART:20261101T090000
END:STANDARD
BEGIN:DAYLIGHT
TZOFFSETFROM:-0800
TZOFFSETTO:-0700
TZNAME:PDT
DTSTART:20270314T100000
END:DAYLIGHT
BEGIN:STANDARD
TZOFFSETFROM:-0700
TZOFFSETTO:-0800
TZNAME:PST
DTSTART:20271107T090000
END:STANDARD
END:VTIMEZONE
BEGIN:VEVENT
DTSTART;VALUE=DATE:20260512
DTEND;VALUE=DATE:20260515
DTSTAMP:20260421T035344
CREATED:20260417T202602Z
LAST-MODIFIED:20260420T204307Z
UID:264312-1778544000-1778803199@worldimagingnewslatino.com
SUMMARY:Createx Salon 2026 – Bogotá\, Colombia
DESCRIPTION:Del 12 al 14 de mayo de 2026\, Salón Createx regresa a Corferias como la plataforma líder para la industria textil y de la confección. Para los profesionales del sector gráfico\, la edición de este año destaca la evolución de la impresión industrial\, la sublimación y los insumos químicos sostenibles. Ya sea que busque maquinaria de última generación o materias primas de alto rendimiento\, Createx es el punto de encuentro donde la cadena de suministro se une con la innovación. \nSalón Createx 2026 es mucho más que una feria textil; es un centro de tecnología especializada. Explore el Pabellón de Maquinaria y Servicios para presenciar demostraciones en vivo de impresión industrial y procesos de manufactura avanzada. Con un enfoque central en la “Moda Circular”\, el evento ofrece una visión única sobre los materiales y tecnologías que están definiendo un futuro sostenible para las industrias gráfica y del vestuario.
URL:https://worldimagingnewslatino.com/es/evento/createx-salon-2026-bogota-colombia/
LOCATION:Corferias\, Bogota Colombia\, Carrera 37 # 24 - 67\, Bogotá\, Colombia
ATTACH;FMTTYPE=image/png:https://worldimagingnewslatino.com/wp-content/uploads/2026/04/Createx.png
END:VEVENT
END:VCALENDAR